BEGIN:VCALENDAR
VERSION:2.0
PRODID:-//hacksw/handcal//NONSGML v1.0//EN
BEGIN:VEVENT
UID:e43be556cac3ee223abf6f1f79d7e11f
DTSTAMP:20260420T051616Z

DTSTART:20170210T100000
DTEND:20170427T110000
SUMMARY:Hands On With Apple’s CarPlay In The Ferrari FF
DESCRIPTION:>Donec molestie nunc lacus, ut accumsan sem imperdiet eu. Maecenas semper erat vitae elit rutrum, ut imperdiet elit consectetur. Pellentesque habitant morbi tristique senectus et netus et malesuada fames ac turpis egestas. Aliquam eget ante massa. Donec eget ligula auctor, dapibus tellus et, pulvinar urna. Donec ultrices quam at nunc molestie convallis. Donec justo tellus, euismod a ante at, dignissim feugiat nunc. Sed nec ipsum at odio suscipit auctor. Cras quis quam dui. Vestibulum at urna condimentum, mattis dolor a, elementum velit
LOCATION:
END:VEVENT

END:VCALENDAR
