BEGIN:VCALENDAR
VERSION:2.0
PRODID:-//hacksw/handcal//NONSGML v1.0//EN
BEGIN:VEVENT
UID:3731969007a0293ea0d35fba59fabbdf
DTSTAMP:20260420T051754Z

DTSTART:20170213T100000
DTEND:20170307T110000
SUMMARY:Altogether charming submarine
DESCRIPTION:Donec molestie nunc lacus, ut accumsan sem imperdiet eu. Maecenas semper erat vitae elit rutrum, ut imperdiet elit consectetur. Pellentesque habitant morbi tristique senectus et netus et malesuada fames ac turpis egestas. Aliquam eget ante massa. Donec eget ligula auctor, dapibus tellus et, pulvinar urna. Donec ultrices quam at nunc molestie convallis. Donec justo tellus, euismod a ante at, dignissim feugiat nunc. Sed nec ipsum at odio suscipit auctor. Cras quis quam dui. Vestibulum at urna condimentum, mattis dolor a, elementum velit.
LOCATION:
END:VEVENT

END:VCALENDAR
